BEGIN:VCALENDAR
VERSION:2.0
PRODID:-//jEvents 2.0 for Joomla//EN
CALSCALE:GREGORIAN
METHOD:PUBLISH
BEGIN:VEVENT
UID:dbfc30f0a79d6349a51e0e8a6f1116b4
CATEGORIES:Allgemein
CREATED:20260318T175902
SUMMARY:Notenschluss Klasse 3 - 12
DESCRIPTION;ENCODING=QUOTED-PRINTABLE: Dieser Event wurde importiert von: https://www.homburgschule.de/index.php/
 aktuelles/schulorganisation/eventdetail/642/-/notenschluss-klasse-3-12?tmpl
 =component
DTSTAMP:20260423T103459Z
DTSTART;VALUE=DATE:20260626
DTEND;VALUE=DATE:20260627
SEQUENCE:0
TRANSP:OPAQUE
END:VEVENT
END:VCALENDAR