BEGIN:VCALENDAR
VERSION:2.0
PRODID:-//jEvents 2.0 for Joomla//EN
CALSCALE:GREGORIAN
METHOD:PUBLISH
BEGIN:VEVENT
UID:8945548c5245631e6b34362e0f787ad4
CATEGORIES:Sek.II
CREATED:20260318T175656
SUMMARY:Schulsprechstunde Agentur für Arbeit Frau Hirt 
DESCRIPTION;ENCODING=QUOTED-PRINTABLE: Dieser Event wurde importiert von: https://www.homburgschule.de/index.php/
 aktuelles/schulorganisation/eventdetail/638/-/schulsprechstunde-agentur-fue
 r-arbeit-frau-hirt?tmpl=component
DTSTAMP:20260421T211451Z
DTSTART;VALUE=DATE:20260420
DTEND;VALUE=DATE:20260421
SEQUENCE:0
TRANSP:OPAQUE
END:VEVENT
END:VCALENDAR