BEGIN:VCALENDAR
VERSION:2.0
PRODID:-//jEvents 2.0 for Joomla//EN
CALSCALE:GREGORIAN
METHOD:PUBLISH
BEGIN:VEVENT
UID:7c37390163caabf5ce210509b2d51fba
CATEGORIES:Sek.II
CREATED:20260318T175221
SUMMARY:Nachschreibetermin Schriftliche Abiturprüfung Politik (LK/GK)
DESCRIPTION;ENCODING=QUOTED-PRINTABLE: Dieser Event wurde importiert von: https://www.homburgschule.de/index.php/
 aktuelles/schulorganisation/eventdetail/633/-/nachschreibetermin-schriftlic
 he-abiturpruefung-politik-lk-gk?tmpl=component
DTSTAMP:20260423T104609Z
DTSTART;VALUE=DATE:20260608
DTEND;VALUE=DATE:20260609
SEQUENCE:0
TRANSP:OPAQUE
END:VEVENT
END:VCALENDAR