BEGIN:VCALENDAR
VERSION:2.0
PRODID:-//jEvents 2.0 for Joomla//EN
CALSCALE:GREGORIAN
METHOD:PUBLISH
BEGIN:VEVENT
UID:3a826e2f9604c519348e50a0851a8a93
CATEGORIES:Sek.II
CREATED:20260318T174423
SUMMARY:Schriftliche Abiturprüfung Mathematik(LK/GK)
DESCRIPTION;ENCODING=QUOTED-PRINTABLE: Dieser Event wurde importiert von: https://www.homburgschule.de/index.php/
 aktuelles/schulorganisation/eventdetail/625/-/schriftliche-abiturpruefung-m
 athematik-lk-gk?tmpl=component
DTSTAMP:20260421T211441Z
DTSTART;VALUE=DATE:20260506
DTEND;VALUE=DATE:20260507
SEQUENCE:0
TRANSP:OPAQUE
END:VEVENT
END:VCALENDAR