BEGIN:VCALENDAR
VERSION:2.0
PRODID:-//jEvents 2.0 for Joomla//EN
CALSCALE:GREGORIAN
METHOD:PUBLISH
BEGIN:VEVENT
UID:36d0e36c6f6219cbd75b2c332d927801
CATEGORIES:Sek.II
CREATED:20260318T174303
SUMMARY:Schriftliche Abiturprüfung Englisch (LK/GK)
DESCRIPTION;ENCODING=QUOTED-PRINTABLE: Dieser Event wurde importiert von: https://www.homburgschule.de/index.php/
 aktuelles/schulorganisation/eventdetail/623/-/schriftliche-abiturpruefung-e
 nglisch-lk-gk?tmpl=component
DTSTAMP:20260421T211506Z
DTSTART;VALUE=DATE:20260430
DTEND;VALUE=DATE:20260501
SEQUENCE:0
TRANSP:OPAQUE
END:VEVENT
END:VCALENDAR