BEGIN:VCALENDAR
VERSION:2.0
PRODID:-//jEvents 2.0 for Joomla//EN
CALSCALE:GREGORIAN
METHOD:PUBLISH
BEGIN:VEVENT
UID:b60eda20e25334678a8fb2945cbec559
CATEGORIES:Sek.II
CREATED:20260318T174234
SUMMARY:Schriftliche Abiturprüfung Deutsch (LK/GK)
DESCRIPTION;ENCODING=QUOTED-PRINTABLE: Dieser Event wurde importiert von: https://www.homburgschule.de/index.php/
 aktuelles/schulorganisation/eventdetail/622/-/schriftliche-abiturpruefung-d
 eutsch-lk-gk?tmpl=component
DTSTAMP:20260425T122747Z
DTSTART;VALUE=DATE:20260428
DTEND;VALUE=DATE:20260429
SEQUENCE:0
TRANSP:OPAQUE
END:VEVENT
END:VCALENDAR