BEGIN:VCALENDAR
VERSION:2.0
PRODID:-//jEvents 2.0 for Joomla//EN
CALSCALE:GREGORIAN
METHOD:PUBLISH
BEGIN:VEVENT
UID:f186bd2ba8d502329b2e20a3d7395af4
CATEGORIES:Sek.II
CREATED:20260318T174148
SUMMARY:Schriftliche Abiturprüfung Biologie (LK/GK)
DESCRIPTION;ENCODING=QUOTED-PRINTABLE: Dieser Event wurde importiert von: https://www.homburgschule.de/index.php/
 aktuelles/schulorganisation/eventdetail/621/-/schriftliche-abiturpruefung-b
 iologie-lk-gk?tmpl=component
DTSTAMP:20260421T211426Z
DTSTART;VALUE=DATE:20260422
DTEND;VALUE=DATE:20260423
SEQUENCE:0
TRANSP:OPAQUE
END:VEVENT
END:VCALENDAR