BEGIN:VCALENDAR
VERSION:2.0
PRODID:-//jEvents 2.0 for Joomla//EN
CALSCALE:GREGORIAN
METHOD:PUBLISH
BEGIN:VEVENT
UID:9dffdca4d2c77feede6f1bc7c8f4831a
CATEGORIES:Sek.I
CREATED:20260113T202517
SUMMARY:Notenkonferenzen 7-10
DESCRIPTION;ENCODING=QUOTED-PRINTABLE:\n\nab 12:40 Uhr\n Dieser Event wurde importiert von: https://www.homburgsc
 hule.de/index.php/aktuelles/schulorganisation/eventdetail/612/-/notenkonfer
 enzen-7-10?tmpl=component
DTSTAMP:20260425T131535Z
DTSTART;VALUE=DATE:20260121
DTEND;VALUE=DATE:20260122
SEQUENCE:0
TRANSP:OPAQUE
END:VEVENT
END:VCALENDAR