BEGIN:VCALENDAR
VERSION:2.0
PRODID:-//jEvents 2.0 for Joomla//EN
CALSCALE:GREGORIAN
METHOD:PUBLISH
BEGIN:VEVENT
UID:f38cda2d85ebd75c75b770004dc7eaa3
CATEGORIES:Allgemein
CREATED:20251017T113031
SUMMARY:Sportfest Sek I / II
DESCRIPTION;ENCODING=QUOTED-PRINTABLE: Dieser Event wurde importiert von: https://www.homburgschule.de/index.php/
 aktuelles/schulorganisation/eventdetail/602/-/sportfest-sek-i-ii?tmpl=compo
 nent
DTSTAMP:20260421T200726Z
DTSTART;VALUE=DATE:20260610
DTEND;VALUE=DATE:20260611
SEQUENCE:0
TRANSP:OPAQUE
END:VEVENT
END:VCALENDAR