BEGIN:VCALENDAR
VERSION:2.0
PRODID:-//jEvents 2.0 for Joomla//EN
CALSCALE:GREGORIAN
METHOD:PUBLISH
BEGIN:VEVENT
UID:53928ab4ce432106a16edbb11dd2b44b
CATEGORIES:Sek.I
CREATED:20251017T112939
SUMMARY:P10 Englisch mündlich
DESCRIPTION;ENCODING=QUOTED-PRINTABLE: Dieser Event wurde importiert von: https://www.homburgschule.de/index.php/
 aktuelles/schulorganisation/eventdetail/600/-/p10-englisch-muendlich?tmpl=c
 omponent
DTSTAMP:20260425T154314Z
DTSTART;VALUE=DATE:20260608
DTEND;VALUE=DATE:20260609
SEQUENCE:0
TRANSP:OPAQUE
END:VEVENT
END:VCALENDAR