BEGIN:VCALENDAR
VERSION:2.0
PRODID:-//jEvents 2.0 for Joomla//EN
CALSCALE:GREGORIAN
METHOD:PUBLISH
BEGIN:VEVENT
UID:71cccdb72d10b0dd72b536825fd8f21c
CATEGORIES:Sek.II
CREATED:20260318T175807
SUMMARY:Schulsprechstunde Agentur für Arbeit Frau Hirt 
DESCRIPTION;ENCODING=QUOTED-PRINTABLE: Dieser Event wurde importiert von: https://www.homburgschule.de/index.php/
 aktuelles/schulorganisation/eventdetail/641/-/schulsprechstunde-agentur-fue
 r-arbeit-frau-hirt?tmpl=component
DTSTAMP:20260425T171053Z
DTSTART;VALUE=DATE:20260629
DTEND;VALUE=DATE:20260630
SEQUENCE:0
TRANSP:OPAQUE
END:VEVENT
END:VCALENDAR