BEGIN:VCALENDAR
VERSION:2.0
PRODID:-//jEvents 2.0 for Joomla//EN
CALSCALE:GREGORIAN
METHOD:PUBLISH
BEGIN:VEVENT
UID:d9a2ec6f64dcf7c2ce6a5534eb442e07
CATEGORIES:Sek.II
CREATED:20260318T175750
SUMMARY:Schulsprechstunde Agentur für Arbeit Frau Hirt 
DESCRIPTION;ENCODING=QUOTED-PRINTABLE: Dieser Event wurde importiert von: https://www.homburgschule.de/index.php/
 aktuelles/schulorganisation/eventdetail/640/-/schulsprechstunde-agentur-fue
 r-arbeit-frau-hirt?tmpl=component
DTSTAMP:20260425T122849Z
DTSTART;VALUE=DATE:20260608
DTEND;VALUE=DATE:20260609
SEQUENCE:0
TRANSP:OPAQUE
END:VEVENT
END:VCALENDAR