BEGIN:VCALENDAR
VERSION:2.0
PRODID:-//jEvents 2.0 for Joomla//EN
CALSCALE:GREGORIAN
METHOD:PUBLISH
BEGIN:VEVENT
UID:aa7433e805843a784e773f25d1ab4d8c
CATEGORIES:Sek.II
CREATED:20260318T175720
SUMMARY:Schulsprechstunde Agentur für Arbeit Frau Hirt 
DESCRIPTION;ENCODING=QUOTED-PRINTABLE: Dieser Event wurde importiert von: https://www.homburgschule.de/index.php/
 aktuelles/schulorganisation/eventdetail/639/-/schulsprechstunde-agentur-fue
 r-arbeit-frau-hirt?tmpl=component
DTSTAMP:20260421T211416Z
DTSTART;VALUE=DATE:20260518
DTEND;VALUE=DATE:20260519
SEQUENCE:0
TRANSP:OPAQUE
END:VEVENT
END:VCALENDAR