BEGIN:VCALENDAR
VERSION:2.0
PRODID:-//jEvents 2.0 for Joomla//EN
CALSCALE:GREGORIAN
METHOD:PUBLISH
BEGIN:VEVENT
UID:b57921acdc3b900e2def6d1634f6d611
CATEGORIES:Sek.II
CREATED:20260318T175518
SUMMARY:Beginn der Zusatzprüfungen Abitur 2026 
DESCRIPTION;ENCODING=QUOTED-PRINTABLE: Dieser Event wurde importiert von: https://www.homburgschule.de/index.php/
 aktuelles/schulorganisation/eventdetail/636/-/beginn-der-zusatzpruefungen-a
 bitur-2026?tmpl=component
DTSTAMP:20260425T122727Z
DTSTART;VALUE=DATE:20260615
DTEND;VALUE=DATE:20260616
SEQUENCE:0
TRANSP:OPAQUE
END:VEVENT
END:VCALENDAR