BEGIN:VCALENDAR
VERSION:2.0
PRODID:-//jEvents 2.0 for Joomla//EN
CALSCALE:GREGORIAN
METHOD:PUBLISH
BEGIN:VEVENT
UID:71946e6a25c7e7a5ce99417204bf8233
CATEGORIES:Sek.II
CREATED:20260318T175015
SUMMARY:Nachschreibetermin Schriftliche Abiturprüfung Englisch (LK/GK)
DESCRIPTION;ENCODING=QUOTED-PRINTABLE: Dieser Event wurde importiert von: https://www.homburgschule.de/index.php/
 aktuelles/schulorganisation/eventdetail/631/-/nachschreibetermin-schriftlic
 he-abiturpruefung-englisch-lk-gk?tmpl=component
DTSTAMP:20260421T211446Z
DTSTART;VALUE=DATE:20260528
DTEND;VALUE=DATE:20260529
SEQUENCE:0
TRANSP:OPAQUE
END:VEVENT
END:VCALENDAR