BEGIN:VCALENDAR
VERSION:2.0
PRODID:-//jEvents 2.0 for Joomla//EN
CALSCALE:GREGORIAN
METHOD:PUBLISH
BEGIN:VEVENT
UID:f8db6548b82844b8560c58bc5be1669f
CATEGORIES:Sek.II
CREATED:20260318T174355
SUMMARY:Schriftliche Abiturprüfung Politik (LK/GK)
DESCRIPTION;ENCODING=QUOTED-PRINTABLE: Dieser Event wurde importiert von: https://www.homburgschule.de/index.php/
 aktuelles/schulorganisation/eventdetail/624/-/schriftliche-abiturpruefung-p
 olitik-lk-gk?tmpl=component
DTSTAMP:20260421T211456Z
DTSTART;VALUE=DATE:20260504
DTEND;VALUE=DATE:20260505
SEQUENCE:0
TRANSP:OPAQUE
END:VEVENT
END:VCALENDAR