BEGIN:VCALENDAR
VERSION:2.0
PRODID:-//jEvents 2.0 for Joomla//EN
CALSCALE:GREGORIAN
METHOD:PUBLISH
BEGIN:VEVENT
UID:3982bd3cef9d4bce9d1011d33134fa5d
CATEGORIES:Sek.II
CREATED:20260318T173950
SUMMARY: alle schriftlichen Prüfungsfächer auf Grundkursniveau (ausgenommen Biologie, Chemie, Deutsch, Englisch, Französisch, Ma- thematik, Physik)
DESCRIPTION;ENCODING=QUOTED-PRINTABLE: Dieser Event wurde importiert von: https://www.homburgschule.de/index.php/
 aktuelles/schulorganisation/eventdetail/620/-/alle-schriftlichen-pruefungsf
 aecher-auf-grundkursniveau-ausgenommen-biologie-chemie-deutsch-englisch-fra
 nzoesisch-ma-thematik-physik?tmpl=component
DTSTAMP:20260421T211401Z
DTSTART;VALUE=DATE:20260420
DTEND;VALUE=DATE:20260421
SEQUENCE:0
TRANSP:OPAQUE
END:VEVENT
END:VCALENDAR