BEGIN:VCALENDAR
VERSION:2.0
PRODID:-//jEvents 2.0 for Joomla//EN
CALSCALE:GREGORIAN
METHOD:PUBLISH
BEGIN:VEVENT
UID:483d020965048d4cfc93e192af994e19
CATEGORIES:Primar
CREATED:20260112T074146
SUMMARY:Primarstufenkonferenz
DESCRIPTION;ENCODING=QUOTED-PRINTABLE: Dieser Event wurde importiert von: https://www.homburgschule.de/index.php/
 aktuelles/schulorganisation/eventdetail/611/-/primarstufenkonferenz?tmpl=co
 mponent
DTSTAMP:20260422T042524Z
DTSTART;VALUE=DATE:20260218
DTEND;VALUE=DATE:20260219
SEQUENCE:0
TRANSP:OPAQUE
END:VEVENT
END:VCALENDAR