BEGIN:VCALENDAR
VERSION:2.0
PRODID:-//jEvents 2.0 for Joomla//EN
CALSCALE:GREGORIAN
METHOD:PUBLISH
BEGIN:VEVENT
UID:560d25498228c5304577b0d359b6857a
CATEGORIES:Primar
CREATED:20260105T112925
SUMMARY:Notenkonferenz K1 - K5
DESCRIPTION;ENCODING=QUOTED-PRINTABLE: Dieser Event wurde importiert von: https://www.homburgschule.de/index.php/
 aktuelles/schulorganisation/eventdetail/610/-/notenkonferenz-k1-k5?tmpl=com
 ponent
DTSTAMP:20260422T003730Z
DTSTART:20260121T114500Z
DTEND:20260121T141500Z
SEQUENCE:0
TRANSP:OPAQUE
END:VEVENT
END:VCALENDAR