BEGIN:VCALENDAR
VERSION:2.0
PRODID:-//jEvents 2.0 for Joomla//EN
CALSCALE:GREGORIAN
METHOD:PUBLISH
BEGIN:VEVENT
UID:31d6682fd7d65da098e56995f55b2224
CATEGORIES:Primar
CREATED:20260105T112901
SUMMARY:Faschingsfeier der Grundschule
DESCRIPTION;ENCODING=QUOTED-PRINTABLE: Dieser Event wurde importiert von: https://www.homburgschule.de/index.php/
 aktuelles/schulorganisation/eventdetail/609/-/faschingsfeier-der-grundschul
 e?tmpl=component
DTSTAMP:20260425T171032Z
DTSTART;VALUE=DATE:20260216
DTEND;VALUE=DATE:20260217
SEQUENCE:0
TRANSP:OPAQUE
END:VEVENT
END:VCALENDAR