BEGIN:VCALENDAR
VERSION:2.0
PRODID:-//jEvents 2.0 for Joomla//EN
CALSCALE:GREGORIAN
METHOD:PUBLISH
BEGIN:VEVENT
UID:cdf8dc5a3bccbaf577eac61430e86675
CATEGORIES:Sek.I
CREATED:20251017T113242
SUMMARY:Prüfungsausschuss Klasse 10
DESCRIPTION;ENCODING=QUOTED-PRINTABLE: Dieser Event wurde importiert von: https://www.homburgschule.de/index.php/
 aktuelles/schulorganisation/eventdetail/605/-/pruefungsausschuss-klasse-10?
 tmpl=component
DTSTAMP:20260423T104647Z
DTSTART;VALUE=DATE:20260615
DTEND;VALUE=DATE:20260616
SEQUENCE:0
TRANSP:OPAQUE
END:VEVENT
END:VCALENDAR