BEGIN:VCALENDAR
VERSION:2.0
PRODID:-//jEvents 2.0 for Joomla//EN
CALSCALE:GREGORIAN
METHOD:PUBLISH
BEGIN:VEVENT
UID:aac27d1b5321d93a4b0c83bb975048ee
CATEGORIES:Sek.I
CREATED:20250924T172724
SUMMARY:Wechsel der WPI-Kurse in 10
LOCATION:Prinz-von-Homburg Gesamtschule
DESCRIPTION;ENCODING=QUOTED-PRINTABLE:\n\nDie aktuellen WPI -Kurse im Fach Wirtschaft-Arbeit-Technik wechseln in 
 Jahrgang 10 in einen anderen Vertiefungsschwerpunkt.\n Dieser Event wurde i
 mportiert von: https://www.homburgschule.de/index.php/aktuelles/schulorgani
 sation/eventdetail/590/-/wechsel-der-wpi-kurse-in-10?tmpl=component
DTSTAMP:20260423T105432Z
DTSTART;VALUE=DATE:20260323
DTEND;VALUE=DATE:20260324
SEQUENCE:0
TRANSP:OPAQUE
END:VEVENT
END:VCALENDAR