BEGIN:VCALENDAR
VERSION:2.0
PRODID:-//jEvents 2.0 for Joomla//EN
CALSCALE:GREGORIAN
METHOD:PUBLISH
BEGIN:VEVENT
UID:20260528-orient-4-deutsch@primarstufe.de
CATEGORIES:Primar
CREATED:20250921T183950
SUMMARY:Orientierungsarbeiten Klasse 4 (Deutsch)
DESCRIPTION;ENCODING=QUOTED-PRINTABLE:\n\nOrientierungsarbeiten Klasse 4 (Deutsch)\n Dieser Event wurde importier
 t von: https://www.homburgschule.de/index.php/aktuelles/schulorganisation/e
 ventdetail/584/-/orientierungsarbeiten-klasse-4-deutsch?tmpl=component
DTSTAMP:20260425T173242Z
DTSTART;VALUE=DATE:20260528
DTEND;VALUE=DATE:20260529
SEQUENCE:0
TRANSP:OPAQUE
END:VEVENT
END:VCALENDAR