BEGIN:VCALENDAR
VERSION:2.0
PRODID:-//jEvents 2.0 for Joomla//EN
CALSCALE:GREGORIAN
METHOD:PUBLISH
BEGIN:VEVENT
UID:20260422-vera3@primarstufe.de
CATEGORIES:Primar
CREATED:20250921T183950
SUMMARY:Vera 3
DESCRIPTION;ENCODING=QUOTED-PRINTABLE:<p>Vera 3 Testzeit</p> Dieser Event wurde importiert von: https://www.hombu
 rgschule.de/index.php/aktuelles/schulorganisation/eventdetail/583/-/vera-3?
 tmpl=component
DTSTAMP:20260423T105650Z
DTSTART;VALUE=DATE:20260422
DTEND;VALUE=DATE:20260514
SEQUENCE:0
TRANSP:OPAQUE
END:VEVENT
END:VCALENDAR