BEGIN:VCALENDAR
VERSION:2.0
PRODID:-//jEvents 2.0 for Joomla//EN
CALSCALE:GREGORIAN
METHOD:PUBLISH
BEGIN:VEVENT
UID:49d7271238e10709befa8d2dbdd9bd05
CATEGORIES:Sek.I
CREATED:20250827T142758
SUMMARY:Nachschreiber P10 - Englisch
DESCRIPTION;ENCODING=QUOTED-PRINTABLE: Dieser Event wurde importiert von: https://www.homburgschule.de/index.php/
 aktuelles/schulorganisation/eventdetail/563/-/nachschreiber-p10-englisch?tm
 pl=component
DTSTAMP:20260425T153842Z
DTSTART;VALUE=DATE:20260528
DTEND;VALUE=DATE:20260529
SEQUENCE:0
TRANSP:OPAQUE
END:VEVENT
END:VCALENDAR