BEGIN:VCALENDAR
VERSION:2.0
PRODID:-//jEvents 2.0 for Joomla//EN
CALSCALE:GREGORIAN
METHOD:PUBLISH
BEGIN:VEVENT
UID:f22954263cc0b394f088089ba61cd008
CATEGORIES:Sek.I
CREATED:20250518T123355
SUMMARY:Girl#s and Boy#s Day + Zukunftstag 2026
DESCRIPTION;ENCODING=QUOTED-PRINTABLE:<p>Verbindliche Teilnahme der Schülerinnen und Schüler Jahrgang 8.</p><p> <
 /p><p><a title="Zukunftstag 2026" href="https://zukunftstagbrandenburg.de/a
 ktuell/details/zukunftstag-2026-seien-sie-dabei-am-2304/">https://zukunftst
 agbrandenburg.de/aktuell/details/zukunftstag-2026-seien-sie-dabei-am-2304/<
 /a></p><p><a href="https://www.girls-day.de/">https://www.girls-day.de/</a>
 </p><p><a href="https://www.boys-day.de/">https://www.boys-day.de/</a></p> 
 Dieser Event wurde importiert von: https://www.homburgschule.de/index.php/a
 ktuelles/schulorganisation/eventdetail/544/-/girl-s-and-boy-s-day-zukunftst
 ag-2026?tmpl=component
DTSTAMP:20260425T173533Z
DTSTART;VALUE=DATE:20260423
DTEND;VALUE=DATE:20260424
SEQUENCE:0
TRANSP:OPAQUE
END:VEVENT
END:VCALENDAR