BEGIN:VCALENDAR
VERSION:2.0
PRODID:-//jEvents 2.0 for Joomla//EN
CALSCALE:GREGORIAN
METHOD:PUBLISH
BEGIN:VEVENT
UID:d1b6951f2751190197db437b810e72ca
CATEGORIES:Sek.I
CREATED:20250518T115426
SUMMARY:Berufsberatungsgespräche Jahrgang 9/10
LOCATION:Prinz-von-Homburg Gesamtschule
DESCRIPTION;ENCODING=QUOTED-PRINTABLE:\n\nTerminvergabe individuell\n\n\nAnsprechpartnerin: Berufsberaterin Frau 
 Elfi Hirt (Agentur für Arbeit Neuruppin)\n Dieser Event wurde importiert vo
 n: https://www.homburgschule.de/index.php/aktuelles/schulorganisation/event
 detail/527/-/berufsberatungsgespraeche-jahrgang-9-10?tmpl=component
DTSTAMP:20260421T180427Z
DTSTART;VALUE=DATE:20260416
DTEND;VALUE=DATE:20260417
SEQUENCE:0
TRANSP:OPAQUE
END:VEVENT
END:VCALENDAR