BEGIN:VCALENDAR
VERSION:2.0
PRODID:-//jEvents 2.0 for Joomla//EN
CALSCALE:GREGORIAN
METHOD:PUBLISH
BEGIN:VEVENT
UID:0e8ea64bfd1a06cf976743245e20e6ee
CATEGORIES:Allgemein
CREATED:20241005T172554
SUMMARY:Gutachtenkonferenz 6b
LOCATION:Raum 0.44
DESCRIPTION;ENCODING=QUOTED-PRINTABLE: Dieser Event wurde importiert von: https://www.homburgschule.de/index.php/
 aktuelles/schulorganisation/eventdetail/441/-/gutachtenkonferenz-6b?tmpl=co
 mponent
DTSTAMP:20260425T102244Z
DTSTART:20250115T131500Z
DTEND:20250115T170000Z
SEQUENCE:0
TRANSP:OPAQUE
END:VEVENT
END:VCALENDAR