BEGIN:VCALENDAR
VERSION:2.0
PRODID:-//jEvents 2.0 for Joomla//EN
CALSCALE:GREGORIAN
METHOD:PUBLISH
BEGIN:VEVENT
UID:f728fdde3dd3565c5de4d6f2b1f94ebe
CATEGORIES:Allgemein
CREATED:20240911T112139
SUMMARY:Notenschluss Klasse 3-12 20:00 Uhr
DESCRIPTION;ENCODING=QUOTED-PRINTABLE: Dieser Event wurde importiert von: https://www.homburgschule.de/index.php/
 aktuelles/schulorganisation/eventdetail/391/-/notenschluss-klasse-3-12-20-0
 0-uhr?tmpl=component
DTSTAMP:20260421T213501Z
DTSTART;VALUE=DATE:20250116
DTEND;VALUE=DATE:20250117
SEQUENCE:0
TRANSP:OPAQUE
END:VEVENT
END:VCALENDAR